BEGIN:VCALENDAR
VERSION:2.0
PRODID:-//Mötesplats Social Innovation - ECPv6.15.3//NONSGML v1.0//EN
CALSCALE:GREGORIAN
METHOD:PUBLISH
X-WR-CALNAME:Mötesplats Social Innovation
X-ORIGINAL-URL:https://socialinnovation.se
X-WR-CALDESC:Händelser för Mötesplats Social Innovation
REFRESH-INTERVAL;VALUE=DURATION:PT1H
X-Robots-Tag:noindex
X-PUBLISHED-TTL:PT1H
BEGIN:VTIMEZONE
TZID:UTC
BEGIN:STANDARD
TZOFFSETFROM:+0000
TZOFFSETTO:+0000
TZNAME:UTC
DTSTART:20260101T000000
END:STANDARD
END:VTIMEZONE
BEGIN:VEVENT
DTSTART;VALUE=DATE:20260601
DTEND;VALUE=DATE:20260602
DTSTAMP:20260423T205841
CREATED:20260121T131058Z
LAST-MODIFIED:20260121T142017Z
UID:62179-1780272000-1780358399@socialinnovation.se
SUMMARY:Social Innovation i Norr 2026 - Barn och unga i samhället
DESCRIPTION:Save the date – 1 juni 2026 i Skellefteå \nVarje år arrangeras konferensen ”Social Innovation i Norr” som samlar aktörer från akademi\, civilsamhälle\, näringsliv och offentlig sektor. Där presenteras och diskuteras aktuella insatser för att utveckla nytänkande lösningar på samhällsutmaningar. Konferensen genomförs i samarbete mellan Mötesplats Social Innovation vid Luleå tekniska universitet och Umeå universitet\, samt Coompanion Norrbotten och Coompanion Västerbotten. Finansiärer är Umeå kommun\, Skellefteå kommun och Luleå kommun. \nÅr 2026 vänder Social innovation i norr blicken mot hur social innovation på olika sätt kan fungera som verktyg för positiv samhällsutveckling med barn och unga i fokus. \nDet blir en dag fylld av kunskap\, nätverkande och konkreta verktyg för samhällsutveckling där vi bland annat behandlar delaktighet och inflytande\, hälsa och inkludering ur olika perspektiv. \nANMÄLAN
URL:https://socialinnovation.se/event/social-innovation-i-norr-2026-barn-och-unga-i-samhallet/
LOCATION:Skellefteå\, Skellefteå\, Sverige
END:VEVENT
END:VCALENDAR