BEGIN:VCALENDAR
VERSION:2.0
PRODID:-//Mötesplats Social Innovation - ECPv6.15.3//NONSGML v1.0//EN
CALSCALE:GREGORIAN
METHOD:PUBLISH
X-ORIGINAL-URL:https://socialinnovation.se
X-WR-CALDESC:Händelser för Mötesplats Social Innovation
REFRESH-INTERVAL;VALUE=DURATION:PT1H
X-Robots-Tag:noindex
X-PUBLISHED-TTL:PT1H
BEGIN:VTIMEZONE
TZID:UTC
BEGIN:STANDARD
TZOFFSETFROM:+0000
TZOFFSETTO:+0000
TZNAME:UTC
DTSTART:20260101T000000
END:STANDARD
END:VTIMEZONE
BEGIN:VEVENT
DTSTART;TZID=UTC:20260209T123000
DTEND;TZID=UTC:20260209T133000
DTSTAMP:20260423T210039
CREATED:20260116T080202Z
LAST-MODIFIED:20260116T080616Z
UID:62107-1770640200-1770643800@socialinnovation.se
SUMMARY:Vetenskaplig seminarieserie om social innovation – Samskapande forskning med kvinnor i hemlöshet
DESCRIPTION:Mötesplats Social Innovation bjuder in forskare och doktorander till en vetenskaplig seminarieserie om social innovation. \n\nOm seminarieserien\nSyftet med seminarieserien är att stärka den akademiska gemenskapen genom att presentera och diskutera aktuell forskning om nytänkande sätt att möta samhällsutmaningar. Intresserade forskare och doktorander från alla discipliner och lärosäten är välkomna att delta.  \nFokus för detta seminarium\nDen 9 februari presenterar Åsa Kneck\, docent i vårdvetenskap vid Marie Cederschiöld högskola\, sin samskapande forskning med kvinnor som har egen erfarenhet av hemlöshet och våld. Presentationen tar avstamp i forskningsprogrammet “SHE Program – Support\, Health and Equity for Women in Homelessness” som drivs i nära samverkan med en sakkunnig grupp av kvinnor – Woman Advisory Board – samt i samarbete med civilsamhällesorganisationer\, hälso- och sjukvård och socialtjänst. Efter presentationen följer en gemensam diskussion som modereras av Mats Målqvist\, professor i global hälsa vid Uppsala universitet.  \nFrån Mötesplats Social Innovation deltar gästprofessor Malin Lindberg. \nTid och plats\nSeminariet genomförs digitalt kl. 12:30-13:30\, på svenska.   \nVarmt välkommen!  \nANMÄLAN
URL:https://socialinnovation.se/event/vetenskaplig-seminarieserie-om-social-innovation-samskapande-forskning-med-kvinnor-i-hemloshet/
LOCATION:Digitalt
ATTACH;FMTTYPE=image/jpeg:https://socialinnovation.se/wp-content/uploads/2026/01/vetenskapligseminarie_kvinnor_hemloshet.jpg
END:VEVENT
BEGIN:VEVENT
DTSTART;TZID=UTC:20260212T130000
DTEND;TZID=UTC:20260212T160000
DTSTAMP:20260423T210039
CREATED:20260119T094717Z
LAST-MODIFIED:20260128T082413Z
UID:62159-1770901200-1770912000@socialinnovation.se
SUMMARY:Samskapa Malmö
DESCRIPTION:Välkommen till en lärandeträff hur vi kan involvera Malmöbor i arbetet med hållbarhet\, demokrati och välfärd.\nSamskapa Malmö är ett lärandenätverk för dig som vill utveckla mer inkluderande och samskapande arbetssätt i Malmö. Här möts medarbetare från Malmö stad\, föreningsliv\, akademi\, näringsliv – och Malmöbor som engagerar sig för sin stad. Läs mer om nätverket Samskapa Malmö här. \nPå vår femte träff sätter vi fokus på invånvarinvolvering\, social mobilisering och demokratisering – och på hur detta kan ta sig uttryck i arbetet för ett hållbart och rättvist Malmö för fler. \n\nHur kan vi kroka arm över sektorsgränserna för att skapa platser och sammanhang där engagemang får utrymme att växa?\nHur kan vi utföra våra uppdrag på ett sätt som samtidigt stärker demokratin och människors inflytande?\n\nTillsammans kan vi skapa en tydligare bild\, vad som är på gång inom detta område i Malmö just nu! \nVid anmälan kan du dela kort om initiativ eller aktiviteter som du vill lyfta fram\, som du ser arbetar för engagemang bland Malmöbor just nu! \nVad händer under träffen?\n\nAktiva från föreningsliv\, Malmö stad\, forskare från Malmö Universitet och sociala rörelser delar erfarenheter och exempel på pågående arbete och nya initiativ.\nVi lyssnar\, lär och samtalar utifrån exempel utmaningar och möjligheter just nu.Under träffen möts vi i strukturerade samtal där allas egna frågor\, iniatitiv och utmaningar får plats.\nDet blir möjligt att i en Initiativverkstad bjuda in andra att utforska en idé\, fördjupa kunskapen om ett problem eller spåna samarbeten.\n\nSå välkommen med att samskapa utifrån det som är viktigt just nu! \nDenna träff är fristående men fungerar också som en fortsättning (del 2) på den lärträff som medarbetare i Malmö stad bjudits in till av Miljöförvaltningen\, projektet Speak-up tidigare i januari. \nHar du frågor om träffen?\nFör frågor\, ideér på innehåll eller annat – ta kontakt med Joel Veborg (Joel.veborg@mau.se) eller David Ershammar (david.ershammar@gmail.com). \nFör information om träffen för anställda i Malmö stad\, ta kontakt med Elin Hasselberg (elin.hasselberg@malmo.se)\, Miljöförvaltningen. \n  \nANMÄLAN\n  \nNär: Torsdag den 12 februari\, kl. 13.00 – 16:00 \nVar: Malmö konstmuseum\, Kungsparken (gamla Casinot) \nHur: Arrangemanget är kostnadsfritt. Sista anmälningsdag 5 februari \n 
URL:https://socialinnovation.se/event/samskapa-malmo-2/
LOCATION:Malmö universitet\, Allmänna sjukhuset\, Jan Waldenströms gata 25\, Malmö\, Sverige
ATTACH;FMTTYPE=image/jpeg:https://socialinnovation.se/wp-content/uploads/2025/10/samskapa_malmö_liggande.jpg
END:VEVENT
END:VCALENDAR