BEGIN:VCALENDAR
VERSION:2.0
PRODID:-//Mötesplats Social Innovation - ECPv6.15.3//NONSGML v1.0//EN
CALSCALE:GREGORIAN
METHOD:PUBLISH
X-WR-CALNAME:Mötesplats Social Innovation
X-ORIGINAL-URL:https://socialinnovation.se
X-WR-CALDESC:Händelser för Mötesplats Social Innovation
REFRESH-INTERVAL;VALUE=DURATION:PT1H
X-Robots-Tag:noindex
X-PUBLISHED-TTL:PT1H
BEGIN:VTIMEZONE
TZID:UTC
BEGIN:STANDARD
TZOFFSETFROM:+0000
TZOFFSETTO:+0000
TZNAME:UTC
DTSTART:20250101T000000
END:STANDARD
END:VTIMEZONE
BEGIN:VEVENT
DTSTART;TZID=UTC:20250729T130000
DTEND;TZID=UTC:20250729T163000
DTSTAMP:20260423T221428
CREATED:20250610T080048Z
LAST-MODIFIED:20250610T082909Z
UID:59727-1753794000-1753806600@socialinnovation.se
SUMMARY:Strandfynd
DESCRIPTION:“Strandfynd” är en interaktiv dans- och musikföreställning för barn och unga.  \nHur dansar en vajande tångruska? Hur låter det när ljudet av gitarrer och strandfynd blandas?  \nI denna interaktiva dans- och musikföreställning får du chansen att\, genom strandfynd från Ribban\, utforska ljud och rörelse för att skapa nya relationer till livet i havet som omger oss. Föreställningen bjuder först på akustisk livemusik och spännande danskoreografi för att i föreställningens andra del förvandla åhörarna till aktiva ”medkompositörer och dansare” genom att bjudas in att röra sig till musik och skapa ljud. \nFöreställningen kommer ges två gånger under tisdagen den 29 juli: kl. 13:00-14:30 samt kl. 15:00-16:30. \nVarmt välkomna!
URL:https://socialinnovation.se/event/strandfynd-2/
LOCATION:Naturum Öresund\, Ribersborgsstigen 4\, Malmö
ATTACH;FMTTYPE=image/png:https://socialinnovation.se/wp-content/uploads/2025/06/affish-2025.png
END:VEVENT
END:VCALENDAR