BEGIN:VCALENDAR
VERSION:2.0
PRODID:-//Mötesplats Social Innovation - ECPv6.15.3//NONSGML v1.0//EN
CALSCALE:GREGORIAN
METHOD:PUBLISH
X-ORIGINAL-URL:https://socialinnovation.se
X-WR-CALDESC:Händelser för Mötesplats Social Innovation
REFRESH-INTERVAL;VALUE=DURATION:PT1H
X-Robots-Tag:noindex
X-PUBLISHED-TTL:PT1H
BEGIN:VTIMEZONE
TZID:UTC
BEGIN:STANDARD
TZOFFSETFROM:+0000
TZOFFSETTO:+0000
TZNAME:UTC
DTSTART:20250101T000000
END:STANDARD
END:VTIMEZONE
BEGIN:VEVENT
DTSTART;TZID=UTC:20250604T130000
DTEND;TZID=UTC:20250604T160000
DTSTAMP:20260423T210040
CREATED:20250520T092045Z
LAST-MODIFIED:20250520T104322Z
UID:59569-1749042000-1749052800@socialinnovation.se
SUMMARY:Samskapa Malmö – Tillsammans för lokal utveckling
DESCRIPTION:Nätverket Samskapa Malmö är en resurs för dig som vill utforska eller utveckla mer inkluderande och samskapande arbetssätt. Ambitionen med detta nya initiativ är att gemensamt växla upp våra sätt att bidra till hållbarhet\, rättvisa och inkludering i Malmö. Första träffen i mars väckte stort engagemang och nu bjuder vi in till nästa träff med temat ”Tillsammans för lokal utveckling”. \nTräffen anordnas i samarbete med Malmö stads fritidsförvaltning som nyligen fått uppdraget att samordna kommunens insatser för lokal utveckling. Uppdraget har till syfte att stödja Malmö stad att bättre förstå och möta lokala behov\, att främja närdemokrati och att samordna insatser enligt Agenda 2030 för bättre ekonomiska\, sociala och miljömässiga förhållanden. I Malmö finns en stark tradition där offentliga aktörer och föreningar arbetar nära och tillsammans med Malmöborna. Här finns många inspirerande exempel på hur engagemang\, förvaltningsuppdrag och handlingskraft kan förenas. \nVälkommen du som är engagerad för lokalt utvecklingsarbete i Malmö – oavsett om du kommer från kommunen\, föreningslivet\, näringslivet\, sociala rörelser eller deltar som engagerad medborgare. Välkommen också du som ännu inte är så aktiv\, men är nyfiken på hur du kan bidra mer! Tillsammans kommer vi att: \n\n\nInspireras av konkreta exempel på lokala lösningar för sociala utmaningar \n\n\nLära tillsammans om hur vi växlar upp det lokala utvecklingsarbetet \n\n\nBidra till stadens strategi för lokal utveckling \n\n\nKnyta värdefulla kontakter för framtida samarbeten \n\n\nMalmö stads fritidsförvaltning deltar för att dela sina erfarenheter och lyssna in vad stadens aktörer behöver för att utveckla sitt arbete. Träffen bygger vidare på två tidigare träffar på temat med aktiva från föreningslivet. \nNär: Onsdag\, 4 juni\, kl. 13.00 – 16.00 \nVar: Kockum fritid Västra Varvsgatan 8\, 211 11 Malmö \nHur: Arrangemanget är kostnadsfritt. Sista anmälningsdag 28 maj. \nBegränsat antal platser. \n  \nANMÄLAN
URL:https://socialinnovation.se/event/samskapa-malmo-tillsammans-for-lokal-utveckling/
LOCATION:Kockums Fritid\, Västra Varvsgatan 8\, Malmö\, 211 11
ATTACH;FMTTYPE=image/jpeg:https://socialinnovation.se/wp-content/uploads/2025/05/20250319_142634.jpg
END:VEVENT
BEGIN:VEVENT
DTSTART;VALUE=DATE:20250608
DTEND;VALUE=DATE:20250609
DTSTAMP:20260423T210040
CREATED:20250725T151532Z
LAST-MODIFIED:20250725T151714Z
UID:60092-1749340800-1749427199@socialinnovation.se
SUMMARY:Skapa med Malmös vatten
DESCRIPTION:Skaparboken innehåller rit- och skrivövningar som får dig att reflektera över din relation till havet och havets relation till dig! Den 8 juni\, under Havets Dag\, kommer havsambassadör Ellen Bjerborn att lansera boken och alla är välkomna att prova på en av övningarna.  \nFestivalen Havets Dag arrangeras vid Södra Varvsbassängen söndagen den 8 juni. Mer info finns här. \nVill du ha ett kostnadsfritt ex av boken? Kontakta Ellen via mejladressen skapandehav@gmail.com. \nPsst! Om du deltar på någon av de andra Havsambassadörernas aktiviteter efter Havets dag kan du få tag på boken därigenom.
URL:https://socialinnovation.se/event/skapa-med-malmos-vatten/
LOCATION:Södra Varvsbassängen (Ångfärjekajen 8)
ATTACH;FMTTYPE=image/jpeg:https://socialinnovation.se/wp-content/uploads/2025/07/DSC9219-scaled.jpeg
END:VEVENT
BEGIN:VEVENT
DTSTART;TZID=UTC:20250608T100000
DTEND;TZID=UTC:20250608T160000
DTSTAMP:20260423T210040
CREATED:20250602T134124Z
LAST-MODIFIED:20250602T134322Z
UID:59690-1749376800-1749398400@socialinnovation.se
SUMMARY:Flod 57 / Utflykt till World Ocean Day!
DESCRIPTION:Bild: https://bauhaus-seas.eu/world-oceans-day-in-malmo/ \n\n\n\nHej Malmöbo!\nHäng med oss till havet på Havets dag\, den 8e juni! \nVi heter Yénika och Stefan\, och kommer att åka från Rosengårds biblioteket till Västra hamnen och aktiviteterna vid Södra Hamnbassängen. \nVi samlas vid bibliotekets entré kl. 10.00 och tar sen buss 5 tillsammans.  \nUnder Havets dag finns flera olika aktiviteter att testa på som alla har koppling till havet\, du hittar hela programmet här. Alla aktiviteter är gratis. \nDu får tillfälle att både lära känna havet på olika sätt\, nya platser och nya människor\, och du får möjlighet att testa olika kreativa aktiviteter. När vi har varit där en stund så sätter vi oss och fikar och pratar tillsammans.\n(Vi håller inte i någon egen aktivitet denna dag.) \nYénika kommer från Pachuca i Mexico och Stefan kommer från Lund här i Skåne. Tillsammans pratar vi svenska\, engelska\, spanska och lite tyska. \nDet vore jättekul om just du kom! \nVarmt välkomna!  \n\n\n\nPraktisk info: \nNär: \nSöndagen den 8e juni kl. 10.00-16.00\nAktiviteterna i Västra hamnen pågår till kl. 16.00\, men du får stanna hur länge du vill och åka när du vill.\nKläder efter vädret! \nVar:\nSamling utanför entrén till Rosengårds bibliotek kl. 10.00\, för att gemensamt ta buss 5 till Västra hamnen. \nÖvrigt:\nBussresa ingår ej. Anmälning hjälper oss att se vilka följer med i gruppen. \nMer detaljer om programmet kommer här: https://www.smkc.se/event-details/world-ocean-day-havets-dag-2025
URL:https://socialinnovation.se/event/flod-57-utflykt-till-world-ocean-day/
LOCATION:Samlingsplats: Rosengårdsbiblioteket\, entré\, vi tar bussen tillsammans\, Rosengårdsbiblioteket på Rosengårds Centrum\, Dicksons väg 6\, Malmö
ATTACH;FMTTYPE=image/png:https://socialinnovation.se/wp-content/uploads/2025/06/WOD24-1536x1229-1.png
END:VEVENT
BEGIN:VEVENT
DTSTART;TZID=UTC:20250608T110000
DTEND;TZID=UTC:20250608T160000
DTSTAMP:20260423T210040
CREATED:20250505T141813Z
LAST-MODIFIED:20250602T113852Z
UID:59523-1749380400-1749398400@socialinnovation.se
SUMMARY:Havets dag
DESCRIPTION:Kom och fira Havets dag vid Södra Varvsbassängen söndagen den 8 juni mellan kl. 11:00 och 16:00.  \nTillsammans firar vi Havets dag vid Södra Varvsbassängen som håller på och förvandlas till en undervattenspark med bland annat ålgräs\, blåstång\, musslor och fiskar. Kom och träffa havsambassadörer och andra som är engagerade för havet samt ta del av kreativa aktiviteter om havet.  \nVälkomna!  \nNågra av dagens aktiviteter  \n\nLyssna och titta på föreställningen Strandfynd av havsambassadörerna Rebell Gitarrkvartett tillsammans med dansarna Lisa Holström och Petra Nilsson. \n\n\nSkapa med havet – havsambassadör Ellen Bjerborn lanserar den nya Skaparboken och leder en rita- och skriv-övning från Skaparboken som får dig att reflektera över din relation till havet och havets relation till dig.\n\n\nLyssna på två ljudverk om havet av konstnärerna J. Cowhie och Lucy Cathcart Frödén som samlat ljud från ovan och under ytan. Vid Amfiteatern. \n\n\nProva på en aktivitet från den nya studiecirkeln ” Havsmedvetenhet och vår relation till havet”. För många av oss är kunskapen om havet\, hur det påverkar oss och hur vi påverkar det\, liten. Därför behöver vi havsmedvetenhet. Vill du stärka din relation till livet i havet? Är du nyfiken på denna nya studiecirkel? Kom och prova på en aktivitet för att ta reda på om studiecirkeln är för dig! \n\n\nWorkshop: Sound Art Workshop. Vid Trapporna. \n\n\nWorkshop: Land Art vid Södra Varvsbassängen – under ledning av havsambassadörs-teamet Land Art kommer vi att skapa konst med naturen. De konstverk vi skapar kommer få en särskild relation till platsen och oss själva. Vid Amfiteatern. \n\n\nWorkshop: Tales in Tiles – Craft with the Ocean. Som deltagare får du här reflektera över din relation till havet samtidigt som du skapar lerplattor av material från havet. \n\n\nWorkshop: ”I wish I was a Black-Spotted Goby”. A collaborative storytelling activity that retraces histories of Malmö’s coastline and its non-human inhabitants. We will give up our human roles\, to witness the South Wharf Basin from an alternative perspective. \n\n\nWorkshop: Kom och ta fram idéer med oss för vad Södra Varvsbassängen som en undervattenspark skulle innebära! Hur föreställer du dig Undervattensparken i framtiden? Hur kommer vi att interagera med och beskydda livet i havet? Hur kan Undervattensparken finnas till för alla i Malmö? \n\nSe hela programmet\nVi som bjuder in till Havets dag är Malmö-piloten inom EU-projektet Bauhaus of the Seas Sails\, dvs. Marint Kunskapscenter\, Mötesplats Social Innovation och Institutionen för konst\, kultur och kommunikation (K3) vid Malmö universitet.  \n 
URL:https://socialinnovation.se/event/havets-dag-2/
LOCATION:Södra Värvsbassängen\, Ångfärjekajen 8\, Malmö
ATTACH;FMTTYPE=image/jpeg:https://socialinnovation.se/wp-content/uploads/2025/05/Havetsdag_evenemang.jpg
END:VEVENT
BEGIN:VEVENT
DTSTART;TZID=UTC:20250608T122000
DTEND;TZID=UTC:20250608T125000
DTSTAMP:20260423T210040
CREATED:20250610T075300Z
LAST-MODIFIED:20250610T082924Z
UID:59722-1749385200-1749387000@socialinnovation.se
SUMMARY:Strandfynd
DESCRIPTION:“Strandfynd” är en interaktiv dans- och musikföreställning för barn och unga.  \nHur dansar en vajande tångruska? Hur låter det när ljudet av gitarrer och strandfynd blandas?  \nI denna interaktiva dans- och musikföreställning får du chansen att\, genom strandfynd från Ribban\, utforska ljud och rörelse för att skapa nya relationer till livet i havet som omger oss. Föreställningen bjuder först på akustisk livemusik och spännande danskoreografi för att i föreställningens andra del förvandla åhörarna till aktiva ”medkompositörer och dansare” genom att bjudas in att röra sig till musik och skapa ljud. \nFöreställningen kommer ges två gånger under tisdagen den 29 juli: kl. 13:00-14:30 samt kl. 15:00-16:30. \nVarmt välkomna!
URL:https://socialinnovation.se/event/strandfynd/
LOCATION:Södra Varvsbassängen (Ångfärjekajen 8)
ATTACH;FMTTYPE=image/png:https://socialinnovation.se/wp-content/uploads/2025/06/affish-2025.png
END:VEVENT
BEGIN:VEVENT
DTSTART;TZID=UTC:20250609T130000
DTEND;TZID=UTC:20250609T150000
DTSTAMP:20260423T210040
CREATED:20250527T132613Z
LAST-MODIFIED:20250527T140846Z
UID:59638-1749474000-1749481200@socialinnovation.se
SUMMARY:Fördjupad omvärldsspaning till ESF:s stöttning av social innovation
DESCRIPTION:Under våren har enkäten ”Omvärldsspaning till ESF:s stöttning av social innovation” skickats ut för att fånga behov\, möjligheter och inspel inför kommande utlysningar från Europeiska socialfonden (ESF+)\, inom programområde E för social innovation. Enkäten skickades från Sveriges nationella kompetenscentrum för social innovation\, som drivs av Mötesplats Social Innovation (MSI) vid Malmö universitet i samarbete med Nationella nätverket för samordningsförbund (NNS) och Partnerskapet för social innovation (PSI) i Region Örebros län\, med stöd av flera idéburna organisationer\, bland andra Famna och Coompanion. Läs mer om Kompetenscenter för social innovation här. \nPå seminariet presenteras svaren från enkäten och i dialog fördjupar vi resultaten för att få en större förståelse för utmaningar och behov. Syftet är att främja nya lösningar som kan möta de utmaningar som finns inom social inkludering\, arbetsmarknad och utbildning. Sociala innovationer kan också utvecklas\, implementeras och spridas inom ESF:s övriga programområden. \nDatum: måndag\, 9 juni \nTid: kl. 13.00-15.00 \nPlats: digitalt\, Zoom\, möteslänk skickas på morgonen 9 juni \n  \nTILL ANMÄLAN\n  \n 
URL:https://socialinnovation.se/event/fordjupad-omvarldsspaning-till-esfs-stottning-av-social-innovation/
LOCATION:Digitalt i Zoom
ATTACH;FMTTYPE=image/jpeg:https://socialinnovation.se/wp-content/uploads/2025/05/fordjupad_omvarldsspaning_16x9_v1.jpg
END:VEVENT
BEGIN:VEVENT
DTSTART;TZID=UTC:20250612T083000
DTEND;TZID=UTC:20250612T103000
DTSTAMP:20260423T210040
CREATED:20250128T083422Z
LAST-MODIFIED:20250213T124310Z
UID:58266-1749717000-1749724200@socialinnovation.se
SUMMARY:Lärträffar om social innovation för ett inkluderande arbetsliv: Skapa värde
DESCRIPTION:Vill du lära dig mer om social innovation? Vill du få stöd i hur det går att skapa social innovation i ett ESF-projekt?\nKompetenscenter för social innovation i Europeiska socialfonden bjuder in till lärträffar för kunskaps- och erfarenhetsutbyte mellan beviljade projekt och potentiella sökande inom programområde E\, social innovation\, inom ESF+. Träffarna har som mål att förbättra förutsättningarna för att skapa effektiva\, långsiktiga och värdeskapande sociala innovationer inom arbetsmarknad\, utbildning och social inkludering. De tar avstamp i MSI:s modell för processen i social innovation\, som omfattar sex centrala delar: förstå samhällsutmaningen\, visionera samhällsförändring\, mobilisera aktörer och resurser\, utveckla och testa\, förverkliga och sprida\, samt skapa värde. Under denna träffa fokuserar vi på processdelen ”Skapa värde”. \nLärträffarna genomförs digitalt en gång i månaden under våren 2025. Du hittar samtliga träffar här. \n  \n\n\nTid\n12 juni\, kl. 08:30-10:30 \nAnmälan\nVill du vara med på någon av lärträffarna? Anmäl dig till Tom Roodro via tom.roodro@mau.se \n  \nVill du veta mer?\nLäs mer om processen i social innovation här.\nLäs mer om Kompetenscenter för social innovation här.
URL:https://socialinnovation.se/event/lartraffar-om-social-innovation-for-ett-inkluderande-arbetsliv-skapa-varde/
ATTACH;FMTTYPE=image/jpeg:https://socialinnovation.se/wp-content/uploads/2025/01/lartillfallen_liggande.jpg
END:VEVENT
BEGIN:VEVENT
DTSTART;TZID=UTC:20250613T080000
DTEND;TZID=UTC:20250613T180000
DTSTAMP:20260423T210040
CREATED:20250415T123205Z
LAST-MODIFIED:20250515T064005Z
UID:59284-1749801600-1749837600@socialinnovation.se
SUMMARY:Summer Block Party
DESCRIPTION:Mötesplats Social Innovation (MSI) och Malmö universitet är medarrangörer till Summer Block Party i Malmö 13 juni. Kom och utforska ett heldagsprogram med workshops\, guidade turer\, öppna kontor\, installationer\, föreläsningar\, utställningar\, demos\, nätverkande\, möten\, mat\, filmvisningar och musik. Dagen arrangeras av företag\, organisationer och boende i området kring Universitetsholmen\, Varvsstaden och Dockan i Malmö\, med målet att skapa samverkan samt en öppen och levande stadsdel. \nSummer Block Party har både ett dags- och kvällsprogram. Se hela programmet och besök Summer Block Partys webbsida här. \n  \nEvents som arrangeras av MSI och Malmö universitet:\nOpen Access to Knowledge and Reading – More Important Than Ever / 10:00-10:40 & 11:00-11:40\nFölj med på en guidad visning av Malmö högskolas bibliotek Orkanen\, som firar 20-årsjubileum i år\, och utställningen på temat läsning\, samt lyssna på ett samtal med Sara Bjärstorp\, verksamhetsledare för MSI och en av forskarna som medverkar i utställningen. Läs mer och anmäl dig till visningen här. \n  \nBauhaus of the Seas Sails: Moving Coastlines – a Walking Workshop / 14:00-16:00 \nVälkommen till en promenad längs historiska kustlinjer för att reflektera\, stämma av och uppmärksamma Malmös relation till havet genom tiderna. Med små scenarier kommer vi att röra våra kroppar genom rummet och våra sinnen genom tiden\, arbeta med skrivövningar och avsluta med en reflekterande gruppdiskussion om tidigare\, nuvarande och framtida relationer till havet. Läs mer och anmäl dig till promenaden här.
URL:https://socialinnovation.se/event/summer-block-party/
ATTACH;FMTTYPE=image/jpeg:https://socialinnovation.se/wp-content/uploads/2025/04/evenemang_webbsida_2-scaled.jpg
END:VEVENT
BEGIN:VEVENT
DTSTART;TZID=UTC:20250614T110000
DTEND;TZID=UTC:20250614T130000
DTSTAMP:20260423T210040
CREATED:20250610T091350Z
LAST-MODIFIED:20250610T091350Z
UID:59740-1749898800-1749906000@socialinnovation.se
SUMMARY:Land Art vid Ribban - Naturum Öresund
DESCRIPTION:I samarbete med Naturum Öresund bjuder Land Art i Skåne bjuder in dig till en workshop där vi utforskar naturen i vår omgivning. Tillsammans skapar vi med naturen\, havet och våra sinnen. \nArrangeras av Land art i Skåne – en grupp som ordnar medskapande workshoppar i Land art\, en konstnärlig metod för att skapa platsspecifika verk i naturen\, av naturen. \nInga förkunskaper behövs. Däremot behövs en lust att samtala och skapa! Workshopen hålls på svenska och vi svarar gärna på frågor och stöttar på engelska. \nVar? Ribersborg Strand\, Malmö. Vi möts utanför Naturum Öresunds huvudingång. \nNär? 14/6 kl. 11-13 \nVarmt välkomna! / Abigail\, Eileen & Hanna
URL:https://socialinnovation.se/event/land-art-vid-ribban-naturum-oresund/
LOCATION:Naturum Öresund\, Ribersborgsstigen 4\, Malmö
ATTACH;FMTTYPE=image/jpeg:https://socialinnovation.se/wp-content/uploads/2024/05/Confetti-1440x800-Illustration-m-loggor-till-varevent.jpg
END:VEVENT
BEGIN:VEVENT
DTSTART;TZID=UTC:20250618T093000
DTEND;TZID=UTC:20250618T160000
DTSTAMP:20260423T210040
CREATED:20250602T135757Z
LAST-MODIFIED:20250602T145556Z
UID:59698-1750239000-1750262400@socialinnovation.se
SUMMARY:Flod 57 / Havsutflykt!
DESCRIPTION:Bild/Image: Stefan Andersson\, 2024 \n\n\n\nHej Malmöbo!\n\n\nVill du hänga med till stranden med oss i sommar? \nVi heter Yénika och Stefan\, och ordnar en gratis havsutflykt för alla som vill där vi bjuder på bad\, berättelser och mat\, de som vill kan snorkla och ta foton under vattnet. \nDu får tillfälle att både lära känna havet\, nya platser och nya människor! \nVi är konstnärer som älskar havet och ofta är där och simmar. Vi vill utforska olika berättelser om havet från Malmö\, och alla världens hörn\, både bra och dåliga. \nYénika kommer från Pachuca i Mexico och Stefan kommer från Lund här i Skåne. Tillsammans pratar vi svenska\, engelska\, spanska och lite tyska. \nDet vore jättekul om just du kom! \nDet ingår mat och lån av utrustning. \nVarmt välkomna!  \n\n\n\nPraktisk info: \nNär: \nOnsdagen den 18e juni kl. 09:30-16:00 \nVar:\nSamling utanför entrén till Rosengårds bibliotek kl. 9.30\, för att gemensamt ta buss 5 och sedan buss 7 till Ribersborgsstranden\, havet och Naturrum Öresund. \nKom i tid\, vi kommer att ta buss 5 kl. 09.45 från Rosengård C. \nVi kommer att vara i och vid Naturum Öresund\, som ligger alldeles vid vattnet\,  där finns också toalett mm. \nVi är tillbaka vid Rosengårds bibliotek strax efter kl.16:00 \nHur: \nVi kommer först att leda ett pass med aktiviteter för alla\, där vi bl.a. delar och bjuder in alla er deltagare att dela berättelser om havet. Vi kommer att använda metoder från teater och design och jobba bl.a. med kroppen\, rösten\, bilder och skrivande. \nAlla som vill kommer kunna bada och snorkla\, eller gå barfota i det grunda vattnet\, det går också bra att bara vara på stranden. Vi kommer att låna ut en undervattenskamera där alla kan fotografera vad de vill. \nVi kommer bjuda på en lättare måltid. \nAllt är gratis och ingår\, bl.a en gemensam måltid\, men registrering är nödvändig och bindande. Det finns plats för max 15 personer/utflykt. \nVissa filmer och foton tagna under utflykten kommer att bli en del av en film och en utställning om havet som kommer visas på Rosengårdsbiblioteket i höst\, de som deltar i utflykten blir inbjudna till att medverka med material till filmen och en kollektiv workshop där vi samskapar filmen. Endast film och foton som deltagare har godkänt kommer att finnas med. \n\nAnmäl dig här
URL:https://socialinnovation.se/event/flod-57-havsutflykt-2/
LOCATION:Samlingsplats: Rosengårdsbiblioteket\, entré\, vi tar bussen tillsammans\, Rosengårdsbiblioteket på Rosengårds Centrum\, Dicksons väg 6\, Malmö
ATTACH;FMTTYPE=image/jpeg:https://socialinnovation.se/wp-content/uploads/2025/06/IMG_20240629_153015-Stefan-Andersson-768x576-1.jpg
END:VEVENT
END:VCALENDAR