BEGIN:VCALENDAR
VERSION:2.0
PRODID:-//Mötesplats Social Innovation - ECPv6.15.3//NONSGML v1.0//EN
CALSCALE:GREGORIAN
METHOD:PUBLISH
X-ORIGINAL-URL:https://socialinnovation.se
X-WR-CALDESC:Händelser för Mötesplats Social Innovation
REFRESH-INTERVAL;VALUE=DURATION:PT1H
X-Robots-Tag:noindex
X-PUBLISHED-TTL:PT1H
BEGIN:VTIMEZONE
TZID:UTC
BEGIN:STANDARD
TZOFFSETFROM:+0000
TZOFFSETTO:+0000
TZNAME:UTC
DTSTART:20250101T000000
END:STANDARD
END:VTIMEZONE
BEGIN:VEVENT
DTSTART;TZID=UTC:20250510T140000
DTEND;TZID=UTC:20250524T150000
DTSTAMP:20260423T194305
CREATED:20250602T133216Z
LAST-MODIFIED:20250602T133507Z
UID:59676-1746885600-1748098800@socialinnovation.se
SUMMARY:Flod 57 / Kortfilmsvisning och fika!
DESCRIPTION:Bild: Flod 57 – UPPSTRÖMS\, 2025\, Collective Fortune \nHavsambassadörsteamet Flod 57 visar kortfilmen ”Flod 57-Uppströms” och bjuder på gratis fika\nKortfilmen består bland annat av undervattensfilmer från havet utanför Malmö\, tagna av deltagare på tidigare utflykter. Kom och upptäck den fascinerande världen under ytan i Öresund\, prova ett cyklop och lyssna på människors berättelser! \nDet kommer också att finnas mer information om vår gratis utflykt till havet den 18e juni 2025\, och du kan anmäla dig på plats. Under utflykten kommer de som vill att kunna bada och snorkla och vi kommer att äta tillsammans och dela berättelser om havet! \n 
URL:https://socialinnovation.se/event/flod-57-kortfilmsvisning-och-fika/
LOCATION:Allrummet\, Rosengårdsbiblioteket på Rosengårds Centrum\, Dicksons väg 6\, Malmö
ATTACH;FMTTYPE=image/jpeg:https://socialinnovation.se/wp-content/uploads/2025/06/shazia-still-1536x864-1.jpg
END:VEVENT
BEGIN:VEVENT
DTSTART;TZID=UTC:20250518T140000
DTEND;TZID=UTC:20250518T160000
DTSTAMP:20260423T194305
CREATED:20250610T083823Z
LAST-MODIFIED:20250610T083843Z
UID:59735-1747576800-1747584000@socialinnovation.se
SUMMARY:Land Art i Slottsparken - mellan kanalen och havet
DESCRIPTION:Kom och prova Land Art i Malmö! Som Havsambassadörer i projektet Bauhaus of the Seas Sails bjuder Land Art (Eileen Laurie\, Therese Carnemalm & Lucy Cathcart-Frödén) in dig till en workshop där vi utforskar havet och de som bor där. Under dessa workshops skapar vi tillsammans med naturen\, havet och våra sinnen. Vi utforskar naturens uttryck genom färg\, form och ljud. Det behövs inga förkunskaper – bara en gnutta nyfikenhet. Alla är välkomna oavsett ålder\, bakgrund eller språk. \nVi träffas vid Slottsträdgårdens kafé och sedan går vi in till Slottsparken. Klä dig efter väder och ta med något att dricka så bjuder vi på lätt tilltugg. \n  \n\n\n\n\n\n\n\n\nWorkshop: Land Art i Slottsparken – mellan kanalen och havet\n\n\n\n\n\nPlats: Slottsparken\nMötesplats: Framför Slottsträdgårdens Kafé\, Malmöhusvägen 8\nTid: 18 maj 2025\, kl 14:00–16:00.\nLäs mer och anmäl dig här. 
URL:https://socialinnovation.se/event/land-art-i-slottsparken-mellan-kanalen-och-havet/
LOCATION:Slottsparken\, Malmöhusvägen 8
ATTACH;FMTTYPE=image/jpeg:https://socialinnovation.se/wp-content/uploads/2024/05/Confetti-1440x800-Illustration-m-loggor-till-varevent.jpg
END:VEVENT
BEGIN:VEVENT
DTSTART;TZID=UTC:20250522T083000
DTEND;TZID=UTC:20250522T103000
DTSTAMP:20260423T194305
CREATED:20250128T083346Z
LAST-MODIFIED:20250213T124242Z
UID:58264-1747902600-1747909800@socialinnovation.se
SUMMARY:Lärträffar om social innovation för ett inkluderande arbetsliv: Förverkliga och sprida
DESCRIPTION:Vill du lära dig mer om social innovation? Vill du få stöd i hur det går att skapa social innovation i ett ESF-projekt?\nKompetenscenter för social innovation i Europeiska socialfonden bjuder in till lärträffar för kunskaps- och erfarenhetsutbyte mellan beviljade projekt och potentiella sökande inom programområde E\, social innovation\, inom ESF+. Träffarna har som mål att förbättra förutsättningarna för att skapa effektiva\, långsiktiga och värdeskapande sociala innovationer inom arbetsmarknad\, utbildning och social inkludering. De tar avstamp i MSI:s modell för processen i social innovation\, som omfattar sex centrala delar: förstå samhällsutmaningen\, visionera samhällsförändring\, mobilisera aktörer och resurser\, utveckla och testa\, förverkliga och sprida\, samt skapa värde. Under denna träffa fokuserar vi på processdelen ”Förverkliga och sprida”. \nLärträffarna genomförs digitalt en gång i månaden under våren 2025. Du hittar samtliga träffar här. \n\n  \n\nTid\n22 maj\, kl. 08:30-10:30 \nAnmälan\nVill du vara med på någon av lärträffarna? Anmäl dig till Tom Roodro via tom.roodro@mau.se \n  \nVill du veta mer?\nLäs mer om processen i social innovation här.\nLäs mer om Kompetenscenter för social innovation här.
URL:https://socialinnovation.se/event/lartraffar-om-social-innovation-for-ett-inkluderande-arbetsliv-forverkliga-och-sprida/
ATTACH;FMTTYPE=image/jpeg:https://socialinnovation.se/wp-content/uploads/2025/01/lartillfallen_liggande.jpg
END:VEVENT
BEGIN:VEVENT
DTSTART;TZID=UTC:20250526T120000
DTEND;TZID=UTC:20250526T130000
DTSTAMP:20260423T194305
CREATED:20250428T063007Z
LAST-MODIFIED:20250617T140613Z
UID:59479-1748260800-1748264400@socialinnovation.se
SUMMARY:Vetenskaplig seminarieserie om social innovation – Barns bostad först
DESCRIPTION:Mötesplats Social Innovation bjuder in forskare och doktorander till en vetenskaplig seminarieserie om social innovation 26 maj.\nSyftet med seminarieserien är att stärka den akademiska gemenskapen genom att presentera och diskutera aktuell forskning om nytänkande sätt att möta samhällsutmaningar. Intresserade forskare och doktorander från alla discipliner och lärosäten är välkomna att delta. \nMåndagen den 26 maj presenterar Martin Grander sin forskning om Barns bostad först som syftar till att sänka trösklarna till bostadsmarknaden för strukturellt hemlösa barnfamiljer. Den bygger vidare på den etablerade modellen Bostad först\, som kombinerats med ett barnrättsperspektiv. Därefter modererar Mats Målqvist en gemensam diskussion. \nFrån Mötesplats Social Innovation deltar gästprofessor Malin Lindberg och projektledare Gloria-Karin Lopéz. \nSeminariet genomförs digitalt på lunchtid mellan kl. 12:00-13:00\, på svenska. \nVarmt välkommen! \nANMÄLAN
URL:https://socialinnovation.se/event/vetenskaplig-seminarieserie-om-social-innovation-barns-bostad-forst/
LOCATION:Digitalt
ATTACH;FMTTYPE=image/png:https://socialinnovation.se/wp-content/uploads/2025/03/vetenskapligseminarie.liggande_1.png
END:VEVENT
END:VCALENDAR