BEGIN:VCALENDAR
VERSION:2.0
PRODID:-//Mötesplats Social Innovation - ECPv6.15.3//NONSGML v1.0//EN
CALSCALE:GREGORIAN
METHOD:PUBLISH
X-WR-CALNAME:Mötesplats Social Innovation
X-ORIGINAL-URL:https://socialinnovation.se
X-WR-CALDESC:Händelser för Mötesplats Social Innovation
REFRESH-INTERVAL;VALUE=DURATION:PT1H
X-Robots-Tag:noindex
X-PUBLISHED-TTL:PT1H
BEGIN:VTIMEZONE
TZID:UTC
BEGIN:STANDARD
TZOFFSETFROM:+0000
TZOFFSETTO:+0000
TZNAME:UTC
DTSTART:20250101T000000
END:STANDARD
END:VTIMEZONE
BEGIN:VEVENT
DTSTART;TZID=UTC:20250404T100000
DTEND;TZID=UTC:20250404T113000
DTSTAMP:20260423T182849
CREATED:20250212T100449Z
LAST-MODIFIED:20250212T100516Z
UID:58407-1743760800-1743766200@socialinnovation.se
SUMMARY:Webbinarium: Modell som visar värdet av social innovation
DESCRIPTION:Tillsammans med innovatörer och innovationsfrämjare har Malin Lindberg\, gästprofessor i social innovation vid Malmö universitet och professor i genus och teknik vid Luleå tekniska universitet\, utvecklat modellen Visa värdet av social innovation. Den synliggör de sociala\, ekonomiska och miljömässiga värden som sociala innovationer kan skapa för individer\, organisationer och samhälle. Vid webbinariet berättar Malin om nyttan med att använda modellen och ger några exempel på hur den använts. \nTa tillfället i akt att lära dig mer om modellen och diskutera hur den kan hjälpa dig i arbetet att stötta innovationer som kan bidra till att lösa aktuella samhällsutmaningar och uppnå de globala hållbarhetsmålen i Agenda 2030. Webbinariet arrangeras av SNITTS i samarbete med oss på Mötesplats Social Innovation. \nModellen finns fritt tillgänglig på svenska och engelska via denna länk. \n\nLäs mer och anmäl dig till webbinariet via SNITTS webbsida här.\n 
URL:https://socialinnovation.se/event/webbinarium-modell-som-visar-vardet-av-social-innovation/
LOCATION:Digitalt i Zoom
ATTACH;FMTTYPE=image/jpeg:https://socialinnovation.se/wp-content/uploads/2025/02/snitts.jpg
END:VEVENT
BEGIN:VEVENT
DTSTART;TZID=UTC:20250424T083000
DTEND;TZID=UTC:20250424T103000
DTSTAMP:20260423T182849
CREATED:20250128T083259Z
LAST-MODIFIED:20250213T124407Z
UID:58262-1745483400-1745490600@socialinnovation.se
SUMMARY:Lärträffar om social innovation för ett inkluderande arbetsliv: Utveckla och testa
DESCRIPTION:Vill du lära dig mer om social innovation? Vill du få stöd i hur det går att skapa social innovation i ett ESF-projekt?\nKompetenscenter för social innovation i Europeiska socialfonden bjuder in till lärträffar för kunskaps- och erfarenhetsutbyte mellan beviljade projekt och potentiella sökande inom programområde E\, social innovation\, inom ESF+. Träffarna har som mål att förbättra förutsättningarna för att skapa effektiva\, långsiktiga och värdeskapande sociala innovationer inom arbetsmarknad\, utbildning och social inkludering. De tar avstamp i MSI:s modell för processen i social innovation\, som omfattar sex centrala delar: förstå samhällsutmaningen\, visionera samhällsförändring\, mobilisera aktörer och resurser\, utveckla och testa\, förverkliga och sprida\, samt skapa värde. Under denna träffa fokuserar vi på processdelen ”Utveckla och testa”. \nLärträffarna genomförs digitalt en gång i månaden under våren 2025. Du hittar samtliga träffar här. \n\n\n  \nTid\n24 april\, kl. 08:30-10:30 \nAnmälan\nVill du vara med på någon av lärträffarna? Anmäl dig till Tom Roodro via tom.roodro@mau.se \n  \nVill du veta mer?\nLäs mer om processen i social innovation här.\nLäs mer om Kompetenscenter för social innovation här.
URL:https://socialinnovation.se/event/lartraffar-om-social-innovation-for-ett-inkluderande-arbetsliv-utveckla-och-testa/
ATTACH;FMTTYPE=image/jpeg:https://socialinnovation.se/wp-content/uploads/2025/01/lartillfallen_liggande.jpg
END:VEVENT
BEGIN:VEVENT
DTSTART;TZID=UTC:20250428T120000
DTEND;TZID=UTC:20250428T130000
DTSTAMP:20260423T182849
CREATED:20250328T094819Z
LAST-MODIFIED:20250617T140621Z
UID:59033-1745841600-1745845200@socialinnovation.se
SUMMARY:Vetenskaplig seminarieserie om social innovation - Mentormammor
DESCRIPTION:Mötesplats Social Innovation bjuder in forskare och doktorander till en vetenskaplig seminarieserie om social innovation med start den 28 april!\nSyftet med seminarieserien är att stärka den akademiska gemenskapen genom att presentera och diskutera aktuell forskning om nytänkande sätt att möta samhällsutmaningar. Intresserade forskare och doktorander från alla discipliner och lärosäten är välkomna att delta. \nMåndagen den 28 april presenterar Per Kåks en studie om erfarenheterna av att främja förtroende för socialtjänst och mödra- och barnhälsovård bland socialt utsatta grupper genom Mentormammor. Därefter modererar Karl Johan Bonnedahl en gemensam diskussion. \nFrån Mötesplats Social Innovation deltar verksamhetsledare Sara Bjärstorp samt gästprofessor Malin Lindberg. \nSeminariet genomförs digitalt på lunchtid mellan kl. 12:00-13:00\, på svenska. \nVarmt välkommen! \nANMÄLAN
URL:https://socialinnovation.se/event/vetenskaplig-seminarieserie-om-social-innovation-mentormammor/
LOCATION:Digitalt
ATTACH;FMTTYPE=image/png:https://socialinnovation.se/wp-content/uploads/2025/03/vetenskapligseminarie.liggande_1.png
END:VEVENT
END:VCALENDAR