BEGIN:VCALENDAR
VERSION:2.0
PRODID:-//Mötesplats Social Innovation - ECPv6.15.3//NONSGML v1.0//EN
CALSCALE:GREGORIAN
METHOD:PUBLISH
X-ORIGINAL-URL:https://socialinnovation.se
X-WR-CALDESC:Händelser för Mötesplats Social Innovation
REFRESH-INTERVAL;VALUE=DURATION:PT1H
X-Robots-Tag:noindex
X-PUBLISHED-TTL:PT1H
BEGIN:VTIMEZONE
TZID:UTC
BEGIN:STANDARD
TZOFFSETFROM:+0000
TZOFFSETTO:+0000
TZNAME:UTC
DTSTART:20250101T000000
END:STANDARD
END:VTIMEZONE
BEGIN:VEVENT
DTSTART;TZID=UTC:20250321T083000
DTEND;TZID=UTC:20250321T100000
DTSTAMP:20260423T171141
CREATED:20250205T100719Z
LAST-MODIFIED:20250205T112317Z
UID:58292-1742545800-1742551200@socialinnovation.se
SUMMARY:Rapportlansering: Vad kan vi lära om social innovation från ESF:s program och projekt?
DESCRIPTION:Välkommen till lanseringen av årets analysrapport i Sveriges nationella kompetenscenter för social innovation i Europeiska socialfonden (ESF).\nI rapporten undersöks vilken förnyelse som eftersträvas i ESF:s programområde för social innovation och de projekt som finansieras där\, för att möta samhällsutmaningar inom social inkludering\, arbetsmarknad och utbildning. Vid lanseringen presenteras rapportens innehåll av Malin Lindberg\, gästprofessor i social innovation vid Malmö universitet\, och diskuteras tillsammans med företrädare för projekt\, ESF-rådet och övriga deltagare. \nRapporten är den andra inom ramen för kompetenscentret\, som drivs av Mötesplats Social Innovation (MSI) på uppdrag av Svenska ESF-rådet\, i samarbete med Nationella nätverket för samordningsförbund (NNS) och Partnerskapet för sociala innovationer i Örebro län\, samt andra nyckelaktörer inom området. \n  \nANMÄLAN\n  \nLäs mer om Nationellt kompetenscenter för social innovation i Europeiska socialfonden.
URL:https://socialinnovation.se/event/rapportlansering-vad-kan-vi-lara-om-social-innovation-fran-esfs-program-och-projekt/
LOCATION:Digitalt
ATTACH;FMTTYPE=image/png:https://socialinnovation.se/wp-content/uploads/2025/02/liggande-banner.png
END:VEVENT
BEGIN:VEVENT
DTSTART;TZID=UTC:20250327T083000
DTEND;TZID=UTC:20250327T103000
DTSTAMP:20260423T171141
CREATED:20250128T083225Z
LAST-MODIFIED:20250213T124427Z
UID:58260-1743064200-1743071400@socialinnovation.se
SUMMARY:Lärträffar om social innovation för ett inkluderande arbetsliv: Mobilisera aktörer och resurser
DESCRIPTION:Vill du lära dig mer om social innovation? Vill du få stöd i hur det går att skapa social innovation i ett ESF-projekt?\nKompetenscenter för social innovation i Europeiska socialfonden bjuder in till lärträffar för kunskaps- och erfarenhetsutbyte mellan beviljade projekt och potentiella sökande inom programområde E\, social innovation\, inom ESF+. Träffarna har som mål att förbättra förutsättningarna för att skapa effektiva\, långsiktiga och värdeskapande sociala innovationer inom arbetsmarknad\, utbildning och social inkludering. De tar avstamp i MSI:s modell för processen i social innovation\, som omfattar sex centrala delar: förstå samhällsutmaningen\, visionera samhällsförändring\, mobilisera aktörer och resurser\, utveckla och testa\, förverkliga och sprida\, samt skapa värde. Under denna träffa fokuserar vi på processdelen ”Mobilisera aktörer och resurser”. \n  \n\n\n\nLärträffarna genomförs digitalt en gång i månaden under våren 2025. Du hittar samtliga träffar här. \n\n\n  \nTid\n27 mars\, kl. 08:30-10:30 \nAnmälan\nVill du vara med på någon av lärträffarna? Anmäl dig till Tom Roodro via tom.roodro@mau.se \n  \nVill du veta mer?\nLäs mer om processen i social innovation här.\nLäs mer om Kompetenscenter för social innovation här.
URL:https://socialinnovation.se/event/lartraffar-om-social-innovation-for-ett-inkluderande-arbetsliv-mobilisera-aktorer-och-resurser/
ATTACH;FMTTYPE=image/jpeg:https://socialinnovation.se/wp-content/uploads/2025/01/lartillfallen_liggande.jpg
END:VEVENT
END:VCALENDAR