BEGIN:VCALENDAR
VERSION:2.0
PRODID:-//Mötesplats Social Innovation - ECPv6.15.3//NONSGML v1.0//EN
CALSCALE:GREGORIAN
METHOD:PUBLISH
X-ORIGINAL-URL:https://socialinnovation.se
X-WR-CALDESC:Händelser för Mötesplats Social Innovation
REFRESH-INTERVAL;VALUE=DURATION:PT1H
X-Robots-Tag:noindex
X-PUBLISHED-TTL:PT1H
BEGIN:VTIMEZONE
TZID:UTC
BEGIN:STANDARD
TZOFFSETFROM:+0000
TZOFFSETTO:+0000
TZNAME:UTC
DTSTART:20240101T000000
END:STANDARD
END:VTIMEZONE
BEGIN:VEVENT
DTSTART;TZID=UTC:20241211T120000
DTEND;TZID=UTC:20241211T163000
DTSTAMP:20260423T210040
CREATED:20241111T152622Z
LAST-MODIFIED:20241111T152938Z
UID:57850-1733918400-1733934600@socialinnovation.se
SUMMARY:Re-Imaginatorium 2: Samskapande Malmö 2040
DESCRIPTION:Nu tar vi nästa steg mot ett samskapat Malmö 2040!\nMed ett långsiktigt och ambitiöst mål att göra Malmö till en mer samskapande stad vill Malmö Universitet och UNIC – Center for City Futures bjuda in dig att följa upp förra årets ”Re-imaginatorium”\, där vi tillsammans utforskar möjliga vägar fram att stärka samskapande processer för stadens utveckling. Oavsett om det gäller miljöfrågor\, ungas hälsa eller stadsutveckling så är behovet det samma. Vi behöver stärka vår förmåga att arbeta tillsammans och ta tillvara på varandras krafter. \nFlera nyckelfaktorer identifierades i förra årets workshop. Den 11 december ses vi på Botildenborg för att konkretisera dessa och diskutera vilka kulturella och organisatoriska förändringar som krävs för att förflytta oss mot en mer samskapande stad. \nNär: Onsdag\, 11 december\, kl. 12.00-16.30\nVar: Botildenborg\, Västra Skrävlinge kyrkoväg 12\nHur: Arrangemanget är kostnadsfritt. Anmälan stängs 4 december. Begränsat antal platser. \nVi bjuder på lunch och eftermiddagsfika. \nEvenemanget arrangeras av Malmö Universitet och UNIC Centre for City Futures med stöd från SEB. \nVarmt välkommen till ett evenemang där vi tillsammans utforskar staden och samskapar framtidens Malmö! \nOm UNIC och UNIC Centre for City Futures\nMalmö universitet ingår i Europauniversitetsalliansen UNIC (European University for Cities in Post-Industrial Transition)\, en allians som består av tio universitet som representerar olika europeiska städer. UNIC erbjuder möjligheter till internationellt engagemang och utbyte för studenter och personal samt vägar för samarbete för lärare och forskare. Inom ramen för UNIC-samarbetet leder Malmö universitet utvecklingen av UNIC Centre for City Futures\, en plattform för tvärsektoriella samarbeten för tranformativ innovation och hållbar samhällsutveckling. UNIC Centre for City Futures ska utveckla och driva fysiska och virtuella mötesplatser där studenter\, medborgare\, forskare\, lärare och andra intressenter tillsammans adresserar samhällsutmaningar. Läs mer om UNIC på deras hemsida här.  \n  \nANMÄL DIG HÄR
URL:https://socialinnovation.se/event/re-imaginatorium-2-samskapande-malmo-2040/
LOCATION:Botildenborg\, Västra Skrävlinge kyrkoväg 12\, Malmö\, 21237
ATTACH;FMTTYPE=image/png:https://socialinnovation.se/wp-content/uploads/2024/11/bakgrund_16_9.png
END:VEVENT
END:VCALENDAR