BEGIN:VCALENDAR
VERSION:2.0
PRODID:-//Mötesplats Social Innovation - ECPv6.15.3//NONSGML v1.0//EN
CALSCALE:GREGORIAN
METHOD:PUBLISH
X-ORIGINAL-URL:https://socialinnovation.se
X-WR-CALDESC:Händelser för Mötesplats Social Innovation
REFRESH-INTERVAL;VALUE=DURATION:PT1H
X-Robots-Tag:noindex
X-PUBLISHED-TTL:PT1H
BEGIN:VTIMEZONE
TZID:UTC
BEGIN:STANDARD
TZOFFSETFROM:+0000
TZOFFSETTO:+0000
TZNAME:UTC
DTSTART:20190101T000000
END:STANDARD
END:VTIMEZONE
BEGIN:VEVENT
DTSTART;VALUE=DATE:20191121
DTEND;VALUE=DATE:20191124
DTSTAMP:20260423T210853
CREATED:20190604T114723Z
LAST-MODIFIED:20190604T164213Z
UID:41753-1574294400-1574553599@socialinnovation.se
SUMMARY:The Impact Days
DESCRIPTION:
URL:https://socialinnovation.se/event/the-impact-days/
LOCATION:Amsterdam\, Nederländerna
END:VEVENT
BEGIN:VEVENT
DTSTART;TZID=UTC:20191119T110000
DTEND;TZID=UTC:20191119T140000
DTSTAMP:20260423T210853
CREATED:20191119T155827Z
LAST-MODIFIED:20191119T155921Z
UID:43010-1574161200-1574172000@socialinnovation.se
SUMMARY:En hållbar och trygg stad – för medborgarna i det offentliga rummet
DESCRIPTION:Så kan offentlig sektor\, forskning och näringsliv lösa samhällsutmaningar genom samverkan. Välkommen till samtal i samarbete med Örebro Universitet.\nDanfo är ett bolag i Örebroregionen som sedan 50 år tillbaka tillverkar kundanpassade offentliga toaletter.\nIdag levererar Danfo sina produkter och lösningar över hela världen. \nAtt bygga hållbara och attraktiva städer är något som berör många aktörer\, såväl offentliga som privata. På Danfo märker vi i vår vardag hur samhällsutmaningen kring att utveckla trygga städer påverkar människors vardag. Hemlöshet\, försäljning av narkotiska preparat och skadegörelse är något som frekvent förekommer i det offentliga rummet. På Danfo ser vi en möjlighet att medverka i arbetet med en hållbar och trygg stad. Danfos tjänster och produkter kan skapa trygghet\, och fungera brottsförebyggande i det offentliga rummet. Det kan även handla om att skapa finansiellt utrymme så att kommunerna kan erbjuda offentliga toaletter. \nHållbar stadsutveckling är för Danfo ett samlingsbegrepp som syftar till att stärka vår konkurrenskraft och samtidigt bidra till lösningar för de ekonomiska och sociala samhällsutmaningar som kommuner har kring trygghet. Vi tror att detta bara är möjligt i samverkan med andra aktörer som verkar i det offentliga rummet. Hur styr och driver vi gemensamt arbetet som både stärker den egna verksamheten och samtidigt ger ökad hållbarhet och trygghet i våra städer? Hur kan vi tillsammans skapa innovativa lösningar och samhällsnytta? \nVår förhoppning är att vi tillsammans med er startar en plattform med fokus på hur vi skapar ett tryggare offentligt rum för våra medborgare. Formatet för dagen är aktiv dialog med alla närvarande och Tommy Borglund som moderator.
URL:https://socialinnovation.se/event/en-hallbar-och-trygg-stad-for-medborgarna-i-det-offentliga-rummet/
LOCATION:Danfo\, Kolmätaregatan 28\, Nora\, Sverige
END:VEVENT
BEGIN:VEVENT
DTSTART;VALUE=DATE:20191114
DTEND;VALUE=DATE:20191116
DTSTAMP:20260423T210853
CREATED:20190604T114723Z
LAST-MODIFIED:20190604T164128Z
UID:41751-1573689600-1573862399@socialinnovation.se
SUMMARY:Social Enterprise Forum on Africa
DESCRIPTION:
URL:https://socialinnovation.se/event/social-enterprise-forum-on-africa/
LOCATION:Durban\, Sydafrika
END:VEVENT
BEGIN:VEVENT
DTSTART;VALUE=DATE:20191112
DTEND;VALUE=DATE:20191114
DTSTAMP:20260423T210853
CREATED:20190604T114723Z
LAST-MODIFIED:20191029T211709Z
UID:41750-1573516800-1573689599@socialinnovation.se
SUMMARY:Social Innovation Summit 2019
DESCRIPTION:
URL:https://socialinnovation.se/event/social-innovation-summit-2019/
LOCATION:Slagthuset\, Malmö\, Carlsgatan 12\, Malmö\, Sverige
ATTACH;FMTTYPE=image/jpeg:https://socialinnovation.se/wp-content/uploads/2019/06/SIS19_FB_1200x628_190320.jpg
END:VEVENT
BEGIN:VEVENT
DTSTART;VALUE=DATE:20191106
DTEND;VALUE=DATE:20191109
DTSTAMP:20260423T210853
CREATED:20190604T114721Z
LAST-MODIFIED:20190604T164032Z
UID:41749-1572998400-1573257599@socialinnovation.se
SUMMARY:The Role of Social & Solidarity Enterprises in the Circular Economy
DESCRIPTION:
URL:https://socialinnovation.se/event/the-role-of-social-solidarity-enterprises-in-the-circular-economy/
LOCATION:Berriozar\, Spanien
END:VEVENT
BEGIN:VEVENT
DTSTART;VALUE=DATE:20191030
DTEND;VALUE=DATE:20191031
DTSTAMP:20260423T210853
CREATED:20190604T114721Z
LAST-MODIFIED:20190604T163841Z
UID:41746-1572393600-1572479999@socialinnovation.se
SUMMARY:Responsible Innovation Summit
DESCRIPTION:
URL:https://socialinnovation.se/event/responsible-innovation-summit/
LOCATION:Dublin\, Irland
END:VEVENT
BEGIN:VEVENT
DTSTART;TZID=UTC:20191029T090000
DTEND;TZID=UTC:20191029T170000
DTSTAMP:20260423T210853
CREATED:20191006T200210Z
LAST-MODIFIED:20191006T200210Z
UID:42966-1572339600-1572368400@socialinnovation.se
SUMMARY:SU: Hållbarhetsforum 2019
DESCRIPTION:Plats: Aula Magna\, Frescati \nHållbarhetsforum som i år äger rum den 29 oktober är ett återkommande evenemang vid Stockholms universitet och syftar till att skapa en plattform för nätverkande\, erfarenhetsutbyte och framtida samverkansmöjligheter. Årets tema är Demokrati\, populism och hållbar utveckling. Forumet kommer att livesändas. Inleder gör rektor Astrid Söderbergh Widding och miljö- och klimatminister samt vice statsminister Isabella Lövin. Den 30 oktober erbjuds fortbildningar samt studiebesök i olika forskningsmiljöer på Campus Frescati. Ta också del av de för dagarna skrivna föreställningarna med dramatenskådespelare Andreas T Olsson. Forumet är öppet för alla\, men anmälan krävs eftersom antalet platser är begränsat. Sista anmälningsdag är 18 oktober. \nGå till anmälan
URL:https://socialinnovation.se/event/su-hallbarhetsforum-2019/
LOCATION:Stockholm\, Sverige
END:VEVENT
BEGIN:VEVENT
DTSTART;VALUE=DATE:20191028
DTEND;VALUE=DATE:20191030
DTSTAMP:20260423T210853
CREATED:20190923T150007Z
LAST-MODIFIED:20190923T150154Z
UID:42740-1572220800-1572393599@socialinnovation.se
SUMMARY:5th Global Research Conference: Social Innovation and Socio-Digital Transformation – Towards a Comprehensive Innovation Policy
DESCRIPTION:
URL:https://socialinnovation.se/event/5th-global-research-conference-social-innovation-and-socio-digital-transformation-towards-a-comprehensive-innovation-policy-dortmund/
LOCATION:Dortmund\, Germany
END:VEVENT
BEGIN:VEVENT
DTSTART;VALUE=DATE:20191023
DTEND;VALUE=DATE:20191029
DTSTAMP:20260423T210853
CREATED:20190604T114721Z
LAST-MODIFIED:20190604T164004Z
UID:41748-1571788800-1572307199@socialinnovation.se
SUMMARY:Social Enterprise World Forum
DESCRIPTION:
URL:https://socialinnovation.se/event/social-enterprise-world-forum/
LOCATION:Addis Ababa\, Etiopien
END:VEVENT
BEGIN:VEVENT
DTSTART;TZID=UTC:20191022T090000
DTEND;TZID=UTC:20191022T153000
DTSTAMP:20260423T210853
CREATED:20190926T101345Z
LAST-MODIFIED:20190926T101345Z
UID:42906-1571734800-1571758200@socialinnovation.se
SUMMARY:AIMday: Framtidens arbetsmarknad och kompetensförsörjning
DESCRIPTION:
URL:https://socialinnovation.se/event/aimday-framtidens-arbetsmarknad-och-kompetensforsorjning/
LOCATION:Humanisthuset Umeå universitet\, Petrus Laestadius väg\, Umeå\, Sverige
END:VEVENT
BEGIN:VEVENT
DTSTART;VALUE=DATE:20191022
DTEND;VALUE=DATE:20191029
DTSTAMP:20260423T210853
CREATED:20190604T114721Z
LAST-MODIFIED:20190604T163922Z
UID:41747-1571702400-1572307199@socialinnovation.se
SUMMARY:SOCAP19
DESCRIPTION:
URL:https://socialinnovation.se/event/socap19/
LOCATION:San Francisco\, USA
END:VEVENT
BEGIN:VEVENT
DTSTART;VALUE=DATE:20191020
DTEND;VALUE=DATE:20191024
DTSTAMP:20260423T210853
CREATED:20190923T145806Z
LAST-MODIFIED:20190923T145806Z
UID:42737-1571529600-1571875199@socialinnovation.se
SUMMARY:Socap International Annual Conference
DESCRIPTION:
URL:https://socialinnovation.se/event/socap-international-annual-conference/
LOCATION:Tucson\, Arizona
END:VEVENT
BEGIN:VEVENT
DTSTART;VALUE=DATE:20191010
DTEND;VALUE=DATE:20191012
DTSTAMP:20260423T210853
CREATED:20190923T145441Z
LAST-MODIFIED:20190923T145441Z
UID:42734-1570665600-1570838399@socialinnovation.se
SUMMARY:Sharing Cities Summit
DESCRIPTION:
URL:https://socialinnovation.se/event/sharing-cities-summit/
LOCATION:Lund & Malmö
END:VEVENT
BEGIN:VEVENT
DTSTART;VALUE=DATE:20191004
DTEND;VALUE=DATE:20191005
DTSTAMP:20260423T210853
CREATED:20190923T094155Z
LAST-MODIFIED:20190925T161336Z
UID:42731-1570147200-1570233599@socialinnovation.se
SUMMARY:Hur mäter och kommunicerar man sociala idéer där pengar inte är det primära syftet eller måttstocken på framgång?
DESCRIPTION:
URL:https://socialinnovation.se/event/hur-mater-och-kommunicerar-man-sociala-ideer-dar-pengar-inte-ar-det-primara-syftet-eller-mattstocken-pa-framgang/
LOCATION:Stockholm\, Sverige
END:VEVENT
BEGIN:VEVENT
DTSTART;TZID=UTC:20191003T153000
DTEND;TZID=UTC:20191003T180000
DTSTAMP:20260423T210853
CREATED:20190926T094325Z
LAST-MODIFIED:20190926T095706Z
UID:42898-1570116600-1570125600@socialinnovation.se
SUMMARY:Social innovation och den ideella sektorns kraft i Norrbotten
DESCRIPTION:Inbjudan hittar du här \nAnmäl dig här
URL:https://socialinnovation.se/event/innovationsveckan/
LOCATION:Regionhuset Luleå\, Robertsviksgatan 7\, Luleå\, Sverige
END:VEVENT
BEGIN:VEVENT
DTSTART;VALUE=DATE:20190925
DTEND;VALUE=DATE:20190927
DTSTAMP:20260423T210853
CREATED:20190604T114721Z
LAST-MODIFIED:20190604T163756Z
UID:41745-1569369600-1569542399@socialinnovation.se
SUMMARY:ICPIE 2019 : International Conference on Productivity\, Innovation\, and Entrepreneurship
DESCRIPTION:
URL:https://socialinnovation.se/event/icpie-2019-international-conference-on-productivity-innovation-and-entrepreneurship/
LOCATION:London\, England
END:VEVENT
BEGIN:VEVENT
DTSTART;VALUE=DATE:20190924
DTEND;VALUE=DATE:20190926
DTSTAMP:20260423T210853
CREATED:20190604T114720Z
LAST-MODIFIED:20190604T163732Z
UID:41744-1569283200-1569455999@socialinnovation.se
SUMMARY:Innovation by collaboration
DESCRIPTION:
URL:https://socialinnovation.se/event/innovation-by-collaboration/
LOCATION:Stockholm\, Sverige
END:VEVENT
BEGIN:VEVENT
DTSTART;VALUE=DATE:20190923
DTEND;VALUE=DATE:20190926
DTSTAMP:20260423T210853
CREATED:20190604T114719Z
LAST-MODIFIED:20190604T163705Z
UID:41743-1569196800-1569455999@socialinnovation.se
SUMMARY:Social and Sustainable Finance and Impact Investing Conference
DESCRIPTION:
URL:https://socialinnovation.se/event/social-and-sustainable-finance-and-impact-investing-conference/
LOCATION:Helsingfors\, Finland
END:VEVENT
BEGIN:VEVENT
DTSTART;VALUE=DATE:20190922
DTEND;VALUE=DATE:20190923
DTSTAMP:20260423T210853
CREATED:20190604T114719Z
LAST-MODIFIED:20190604T163617Z
UID:41741-1569110400-1569196799@socialinnovation.se
SUMMARY:Global Peoples Summit
DESCRIPTION:
URL:https://socialinnovation.se/event/global-peoples-summit/
LOCATION:New York\, USA
END:VEVENT
BEGIN:VEVENT
DTSTART;VALUE=DATE:20190921
DTEND;VALUE=DATE:20190924
DTSTAMP:20260423T210853
CREATED:20190604T114719Z
LAST-MODIFIED:20190604T163642Z
UID:41742-1569024000-1569283199@socialinnovation.se
SUMMARY:The 5th International Conference on Social Enterprise in Asia
DESCRIPTION:
URL:https://socialinnovation.se/event/the-5th-international-conference-on-social-enterprise-in-asia/
LOCATION:Osaka\, Japan
END:VEVENT
BEGIN:VEVENT
DTSTART;VALUE=DATE:20190919
DTEND;VALUE=DATE:20190921
DTSTAMP:20260423T210853
CREATED:20190923T091147Z
LAST-MODIFIED:20190923T091147Z
UID:42724-1568851200-1569023999@socialinnovation.se
SUMMARY:Socialt byggande & modernt självbyggeri
DESCRIPTION:
URL:https://socialinnovation.se/event/socialt-byggande-modernt-sjalvbyggeri/
LOCATION:Göteborg
END:VEVENT
BEGIN:VEVENT
DTSTART;VALUE=DATE:20190917
DTEND;VALUE=DATE:20190919
DTSTAMP:20260423T210853
CREATED:20190604T114719Z
LAST-MODIFIED:20190604T163506Z
UID:41740-1568678400-1568851199@socialinnovation.se
SUMMARY:ICSEI 2019 : International Conference on Social Enterprise and Innovation
DESCRIPTION:
URL:https://socialinnovation.se/event/icsei-2019-international-conference-on-social-enterprise-and-innovation/
LOCATION:Rom\, Italien
END:VEVENT
BEGIN:VEVENT
DTSTART;VALUE=DATE:20190916
DTEND;VALUE=DATE:20190920
DTSTAMP:20260423T210853
CREATED:20190604T114718Z
LAST-MODIFIED:20190802T122827Z
UID:41739-1568592000-1568937599@socialinnovation.se
SUMMARY:Norrsken Impact Week
DESCRIPTION:
URL:https://socialinnovation.se/event/norrsken-impact-week/
LOCATION:Norrsken House\, Birger Jarlsgatan 57 C\, Stockholm\, Sverige
ATTACH;FMTTYPE=image/png:https://socialinnovation.se/wp-content/uploads/2019/06/impact-week-2019-logo.png
END:VEVENT
BEGIN:VEVENT
DTSTART;VALUE=DATE:20190909
DTEND;VALUE=DATE:20190912
DTSTAMP:20260423T210853
CREATED:20190604T114718Z
LAST-MODIFIED:20190604T163347Z
UID:41738-1567987200-1568246399@socialinnovation.se
SUMMARY:Summit '19
DESCRIPTION:
URL:https://socialinnovation.se/event/summit19/
LOCATION:Chicago\, USA
END:VEVENT
BEGIN:VEVENT
DTSTART;VALUE=DATE:20190905
DTEND;VALUE=DATE:20190907
DTSTAMP:20260423T210853
CREATED:20190604T114718Z
LAST-MODIFIED:20190604T162051Z
UID:41737-1567641600-1567814399@socialinnovation.se
SUMMARY:Social Outcomes Conference
DESCRIPTION:
URL:https://socialinnovation.se/event/social-outcomes-conference/
LOCATION:Oxford\, England
END:VEVENT
BEGIN:VEVENT
DTSTART;VALUE=DATE:20190902
DTEND;VALUE=DATE:20190905
DTSTAMP:20260423T210853
CREATED:20190604T114717Z
LAST-MODIFIED:20190604T162025Z
UID:41736-1567382400-1567641599@socialinnovation.se
SUMMARY:Social Innovation: Local Solutions to Global Challenges
DESCRIPTION:
URL:https://socialinnovation.se/event/social-innovation-local-solutions-to-global-challenges/
LOCATION:Glasgow\, Skottland
END:VEVENT
BEGIN:VEVENT
DTSTART;VALUE=DATE:20190830
DTEND;VALUE=DATE:20190831
DTSTAMP:20260423T210853
CREATED:20190923T090719Z
LAST-MODIFIED:20190923T090719Z
UID:42721-1567123200-1567209599@socialinnovation.se
SUMMARY:Future Sharing City: Samskapande idélab\, Midroc & MSI Syd
DESCRIPTION:
URL:https://socialinnovation.se/event/future-sharing-city-samskapande-idelab-midroc-msi-syd/
LOCATION:Malmö\, Sverige
END:VEVENT
BEGIN:VEVENT
DTSTART;VALUE=DATE:20190829
DTEND;VALUE=DATE:20190830
DTSTAMP:20260423T210853
CREATED:20190923T090604Z
LAST-MODIFIED:20190923T090604Z
UID:42718-1567036800-1567123199@socialinnovation.se
SUMMARY:Många olika vägar till försörjning
DESCRIPTION:
URL:https://socialinnovation.se/event/manga-olika-vagar-till-forsorjning/
LOCATION:Malmö\, Sverige
END:VEVENT
BEGIN:VEVENT
DTSTART;VALUE=DATE:20190710
DTEND;VALUE=DATE:20190712
DTSTAMP:20260423T210853
CREATED:20190604T114717Z
LAST-MODIFIED:20190604T161903Z
UID:41734-1562716800-1562889599@socialinnovation.se
SUMMARY:Pact for Impact
DESCRIPTION:
URL:https://socialinnovation.se/event/pact-for-impact/
LOCATION:Paris\, Frankrike
END:VEVENT
BEGIN:VEVENT
DTSTART;VALUE=DATE:20190710
DTEND;VALUE=DATE:20190713
DTSTAMP:20260423T210853
CREATED:20190604T114717Z
LAST-MODIFIED:20190604T161940Z
UID:41735-1562716800-1562975999@socialinnovation.se
SUMMARY:Community Innovation and Social Enterprise 2019
DESCRIPTION:
URL:https://socialinnovation.se/event/community-innovation-and-social-enterprise-2019/
LOCATION:Sydney\, Nova Scotia\, Kanada
END:VEVENT
END:VCALENDAR