BEGIN:VCALENDAR
VERSION:2.0
PRODID:-//Mötesplats Social Innovation - ECPv6.15.3//NONSGML v1.0//EN
CALSCALE:GREGORIAN
METHOD:PUBLISH
X-ORIGINAL-URL:https://socialinnovation.se
X-WR-CALDESC:Händelser för Mötesplats Social Innovation
REFRESH-INTERVAL;VALUE=DURATION:PT1H
X-Robots-Tag:noindex
X-PUBLISHED-TTL:PT1H
BEGIN:VTIMEZONE
TZID:UTC
BEGIN:STANDARD
TZOFFSETFROM:+0000
TZOFFSETTO:+0000
TZNAME:UTC
DTSTART:20210101T000000
END:STANDARD
END:VTIMEZONE
BEGIN:VEVENT
DTSTART;TZID=UTC:20211027T100000
DTEND;TZID=UTC:20211027T150000
DTSTAMP:20260423T002449
CREATED:20211008T102559Z
LAST-MODIFIED:20211008T121114Z
UID:45686-1635328800-1635346800@socialinnovation.se
SUMMARY:Social Innovation i Norr
DESCRIPTION:Vårt samhälle står inför stora samhällsutmaningar\, inte minst sociala\, som vi tillsammans behöver samarbeta för att hitta nya lösningar på. Social Innovation i Norr är den årliga konferensen som lyfter goda exempel på sociala innovationer från Västerbotten och Norrbotten och skapar mötesplatser för att vi ska lära oss av varandra och möjliggöra social hållbarhet. Social Innovation i Norr alternerar mellan Norrbotten och Västerbotten. \n  \nÅrets tema är OMTÄNK\, OMTAG\, OMTANKE – social innovation i pandemins spår\nCoronapandemin har både inneburit nya utmaningar och förstärkt andra som redan fanns. Det kräver att vi tänker om och tar nya tag för att med omtanke om varandra fortfarande kunna bidra till sociala innovationer för ett hållbart samhälle. Men hur gör vi det på bästa sätt? Det är temat för femte upplagan av konferensen Social Innovation i Norr 2021. \nTid: 27 oktober\, 10:00-15:00\nPlats: Digitalt i Zoom \nKonferensen sänds live från Sara Kulturhus i Skellefteå. Du som deltagare är med kostnadsfritt. \n  \nSocial Innovation i Norr organiseras av Mötesplats Social Innovation vid Umeå universitet och Luleå tekniska universitet samt Coompanion i samarbete med kommunerna i Umeå\, Skellefteå och Luleå. \n  \nAnmäl dig
URL:https://socialinnovation.se/event/social-innovation-i-norr-2021/
LOCATION:Online
ATTACH;FMTTYPE=image/jpeg:https://socialinnovation.se/wp-content/uploads/2021/10/social-innovation-i-norr-1920x1080_v2-2.jpg
END:VEVENT
END:VCALENDAR