BEGIN:VCALENDAR
VERSION:2.0
PRODID:-//Mötesplats Social Innovation - ECPv6.15.3//NONSGML v1.0//EN
CALSCALE:GREGORIAN
METHOD:PUBLISH
X-WR-CALNAME:Mötesplats Social Innovation
X-ORIGINAL-URL:https://socialinnovation.se
X-WR-CALDESC:Händelser för Mötesplats Social Innovation
REFRESH-INTERVAL;VALUE=DURATION:PT1H
X-Robots-Tag:noindex
X-PUBLISHED-TTL:PT1H
BEGIN:VTIMEZONE
TZID:UTC
BEGIN:STANDARD
TZOFFSETFROM:+0000
TZOFFSETTO:+0000
TZNAME:UTC
DTSTART:20260101T000000
END:STANDARD
END:VTIMEZONE
BEGIN:VEVENT
DTSTART;TZID=UTC:20260421T130000
DTEND;TZID=UTC:20260421T143000
DTSTAMP:20260421T101859
CREATED:20260323T161633Z
LAST-MODIFIED:20260323T161633Z
UID:62808-1776776400-1776781800@socialinnovation.se
SUMMARY:Samhällsengagerade lärosäten – lärdomar och inspiration
DESCRIPTION:Allt fler lärosäten i Sverige och andra länder strävar efter att bredda och fördjupa sitt samhällsengagemang för att kunna möta aktuella samhällsutmaningar och bidra till omställningen till ett hållbart samhälle. Men hur kan svenska lärosäten stötta akademiskt engagemang i social innovation för hållbar omställning? Och hur skulle framtidens samhällsengagerade lärosäten kunna se ut?\nMötesplats Social Innovation driver 2025-2026 ett Vinnova-finansierat projekt där vi gått igenom styrdokument som vägleder arbetet med innovation\, nyttiggörande\, hållbarhet och samverkan vid Högskolan i Borås\, Jönköping University\, Luleå tekniska universitet\, Malmö universitet\, Umeå universitet och Örebro universitet. Vid varje lärosäte genomfördes policylabb där resultaten diskuterades med nyckelpersoner som leder\, stöttar och bedriver arbetet. Parallellt gjordes en internationell kartläggning av samhällsengagerade lärosäten i andra länder. Slutligen samlades företrädare från alla lärosätena till ett re-imaginatorium där vi lyfte blicken för att föreställa oss framtidens samhällsengagerade lärosäten. \nVid detta webbinarium berättar vi om lärdomarna från projektet och lanserar en populärvetenskaplig skrift som inspiration för fortsatt akademiskt samhällsengagemang. \nTid: 21 april\, kl. 13:00-14:30\nPlats: Digitalt \n  \nANMÄLAN\n  \nWebbinariet genomförs i projektet ”Akademiskt policystöd till social innovation för hållbar omställning” som finansieras av Vinnova. Projektet drivs av Mötesplats Social Innovation som är en nationell kunskaps- och samverkansplattform för social innovation vid Högskolan i Borås\, Luleå tekniska universitet\, Malmö universitet\, Umeå universitet och Örebro universitet.
URL:https://socialinnovation.se/event/samhallsengagerade-larosaten-lardomar-och-inspiration/
LOCATION:Digitalt
ATTACH;FMTTYPE=image/jpeg:https://socialinnovation.se/wp-content/uploads/2026/03/roadmap_guideline-bakgrund-scaled.jpg
END:VEVENT
END:VCALENDAR